BEGIN:VCALENDAR
VERSION:2.0
PRODID:-//ChamberMaster//Event Calendar 2.0//EN
METHOD:PUBLISH
X-PUBLISHED-TTL:P3D
REFRESH-INTERVAL:P3D
CALSCALE:GREGORIAN
BEGIN:VEVENT
DTSTART:20200419T000000Z
DTEND:20200419T020000Z
X-MICROSOFT-CDO-ALLDAYEVENT:FALSE
SUMMARY:1950's Sock Hop - CASA of Titus\, Camp and Morris Counties
DESCRIPTION:Please come join CASA at the 1950's Sock Hop! Come listen and dance your socks off to live entertainment by Dale Cummings. 1950's - Costume Contest and Twist Dance Off. Learn to do the Hand Jive and the Stroll! Refreshments will be provided.\n\n\n\nTickets can be purchased at CASA of Titus\, Camp and Morris Counties or online at https://tithe.ly/event-registration/#/1199278
X-ALT-DESC;FMTTYPE=text/html:<span><strong>Please come join CASA at the 1950&#39\;s Sock Hop! Come listen and dance your socks off to live entertainment by Dale Cummings. 1950&#39\;s - Costume Contest and Twist Dance Off. Learn to do the Hand Jive and the Stroll! Refreshments will be provided.<br />\n<br />\nTickets can be purchased at CASA of Titus\, Camp and Morris Counties or online at <a data-lynx-mode="hover" data-lynx-uri="https://l.facebook.com/l.php?u=https%3A%2F%2Ftithe.ly%2Fevent-registration%2F%3Ffbclid%3DIwAR1r9PVPnjsmJdK70HoVqQ1acViz_Z_TDXGfTgB31JGmXVz7mnE0vyr84ww%23%2F1199278&amp\;h=AT0I7SBMXUlfGRt9-gJzzMpHsFK982hkJyT1_R2vh-RL8_ib0iLMWqlf9TDFj6DBmth_UTp8vsT5K-Jly0zuD1Yake-PbcqrbAi94EPFiZ-j7r9--VUnQsfREIRWHieHoyeg" href="https://tithe.ly/event-registration/?fbclid=IwAR1r9PVPnjsmJdK70HoVqQ1acViz_Z_TDXGfTgB31JGmXVz7mnE0vyr84ww#/1199278" rel="nofollow noopener" target="_blank">https://tithe.ly/event-registration/#/1199278</a></strong> </span>
LOCATION:Mount Pleasant Civic Center 1800 N. Jefferson Ave\, Mount Pleasant\, Texas 75455
UID:e.2296.233523
SEQUENCE:3
DTSTAMP:20260422T091741Z
URL:https://business.mtpleasanttx.com/events/details/1950-s-sock-hop-casa-of-titus-camp-and-morris-counties-233523
END:VEVENT

END:VCALENDAR
