BEGIN:VCALENDAR
VERSION:2.0
PRODID:-//ChamberMaster//Event Calendar 2.0//EN
METHOD:PUBLISH
X-PUBLISHED-TTL:P3D
REFRESH-INTERVAL:P3D
CALSCALE:GREGORIAN
BEGIN:VEVENT
DTSTART:20200220T233000Z
DTEND:20200221T010000Z
X-MICROSOFT-CDO-ALLDAYEVENT:FALSE
SUMMARY:Business After Hours Sponsored by Buddy Marshall Insurance
DESCRIPTION:
X-ALT-DESC;FMTTYPE=text/html:
LOCATION:Mount Pleasant Country Club 1000 Country Club Drive\, Mt. Pleasant\, TX 75455
UID:e.2296.233247
SEQUENCE:3
DTSTAMP:20260422T120908Z
URL:https://business.mtpleasanttx.com/events/details/business-after-hours-sponsored-by-buddy-marshall-insurance-02-20-2020-233247
END:VEVENT

END:VCALENDAR
