BEGIN:VCALENDAR
VERSION:2.0
PRODID:-//ChamberMaster//Event Calendar 2.0//EN
METHOD:PUBLISH
X-PUBLISHED-TTL:P3D
REFRESH-INTERVAL:P3D
CALSCALE:GREGORIAN
BEGIN:VEVENT
DTSTART:20200408T190000Z
DTEND:20200408T200000Z
X-MICROSOFT-CDO-ALLDAYEVENT:FALSE
SUMMARY:COVID-19 Solutions 10 Things You Need to Know About Data Security & Working Remotely
DESCRIPTION:Join Cynergy Technology COO\, Kevin Roper\, to get updates on Data Security & Working Remotely. COVID-19. Remote workers. An exponential increase in data security attacks. In technology terms\, it's a perfect storm. Join us for a brief\, informative discussion on what your organization should be doing to keep your business running remotely while safeguarding sensitive client information and protecting your company's reputation.
X-ALT-DESC;FMTTYPE=text/html:<span style="color: rgb(51\, 51\, 51)\; font-family: sans-serif\; font-size: 13.3333px\; background-color: rgb(255\, 255\, 255)\;">Join Cynergy Technology COO\, Kevin Roper\, to get updates on Data Security &amp\; Working Remotely. COVID-19. Remote workers. An exponential increase in data security attacks. In technology terms\, it&#39\;s a perfect storm. Join us for a brief\, informative discussion on what your organization should be doing to keep your business running remotely while safeguarding sensitive client information and protecting your company&#39\;s reputation.</span>
LOCATION:
UID:e.2296.233529
SEQUENCE:3
DTSTAMP:20260422T091145Z
URL:https://business.mtpleasanttx.com/events/details/covid-19-solutions-10-things-you-need-to-know-about-data-security-working-remotely-233529
END:VEVENT

END:VCALENDAR
