BEGIN:VCALENDAR
VERSION:2.0
PRODID:-//ChamberMaster//Event Calendar 2.0//EN
METHOD:PUBLISH
X-PUBLISHED-TTL:P3D
REFRESH-INTERVAL:P3D
CALSCALE:GREGORIAN
BEGIN:VEVENT
DTSTART:20200116T180000Z
DTEND:20200116T183000Z
X-MICROSOFT-CDO-ALLDAYEVENT:FALSE
SUMMARY:Dr. J. Colton Bradshaw Early Center
DESCRIPTION:Grand Opening of Dr. J. Colton Bradshaw Early Center !
X-ALT-DESC;FMTTYPE=text/html:<strong>Grand Opening of Dr. J. Colton Bradshaw Early Center !</strong>
LOCATION:Harts Bluff ISD 3506 FM 1402 Mt.Pleasant\,TX 75455
UID:e.2296.233239
SEQUENCE:3
DTSTAMP:20260422T135129Z
URL:https://business.mtpleasanttx.com/events/details/dr-j-colton-bradshaw-early-center-233239
END:VEVENT

END:VCALENDAR
