BEGIN:VCALENDAR
VERSION:2.0
PRODID:-//ChamberMaster//Event Calendar 2.0//EN
METHOD:PUBLISH
X-PUBLISHED-TTL:P3D
REFRESH-INTERVAL:P3D
CALSCALE:GREGORIAN
BEGIN:VEVENT
DTSTART;VALUE=DATE:20200629
DTEND;VALUE=DATE:20200801
TRANSP:TRANSPARENT
X-MICROSOFT-CDO-ALLDAYEVENT:TRUE
SUMMARY:Jobs Still Available!
DESCRIPTION:Shape YOURS and your community's future by working for the 2020 Census! Great paying\, flexible\, temporary jobs STILL AVAILABLE! Apply Today! 2020census.gov/jobs Or\, Text "jobs2020" to 313131
X-ALT-DESC;FMTTYPE=text/html:Shape YOURS and your community&rsquo\;s future by working for the 2020 Census! Great paying\, flexible\, temporary jobs STILL AVAILABLE! Apply Today! 2020census.gov/jobs Or\, Text &ldquo\;jobs2020&rdquo\; to 313131
LOCATION:www.2020census.gov/jobs
UID:e.2296.233538
SEQUENCE:3
DTSTAMP:20260422T075206Z
URL:https://business.mtpleasanttx.com/events/details/jobs-still-available-233538
END:VEVENT

END:VCALENDAR
