BEGIN:VCALENDAR
VERSION:2.0
PRODID:-//ChamberMaster//Event Calendar 2.0//EN
METHOD:PUBLISH
X-PUBLISHED-TTL:P3D
REFRESH-INTERVAL:P3D
CALSCALE:GREGORIAN
BEGIN:VEVENT
DTSTART:20200206T130000Z
DTEND:20200206T140000Z
X-MICROSOFT-CDO-ALLDAYEVENT:FALSE
SUMMARY:Quarterly Business Breakfast Sponsored by Healthcare Express
DESCRIPTION:Quarterly Business Breakfast Sponsored by Healthcare Express
X-ALT-DESC;FMTTYPE=text/html:Quarterly Business Breakfast Sponsored by Healthcare Express&nbsp\;
LOCATION:Mount Pleasant Country Club 1000 Country Club Drive Mt. Pleasant\, TX 75455
UID:e.2296.233244
SEQUENCE:3
DTSTAMP:20260422T121440Z
URL:https://business.mtpleasanttx.com/events/details/quarterly-business-breakfast-sponsored-by-healthcare-express-233244
END:VEVENT

END:VCALENDAR
