BEGIN:VCALENDAR
VERSION:2.0
PRODID:-//ChamberMaster//Event Calendar 2.0//EN
METHOD:PUBLISH
X-PUBLISHED-TTL:P3D
REFRESH-INTERVAL:P3D
CALSCALE:GREGORIAN
BEGIN:VEVENT
DTSTART;VALUE=DATE:20200523
DTEND;VALUE=DATE:20200628
TRANSP:TRANSPARENT
X-MICROSOFT-CDO-ALLDAYEVENT:TRUE
SUMMARY:Veranda Tea Times
DESCRIPTION:The Historical Abernathy House of Pittsburg (circa1896) re-opens to the public with it's ever popular "Veranda Tea Times" beginning May 23rd. Bring you're own lemonade/iced tea/sweet treats and invite friends to "porch sit" for lively conversation and sharing. Book appts. 214-202-1862
X-ALT-DESC;FMTTYPE=text/html:The Historical Abernathy House of Pittsburg (circa1896) re-opens to the public with it&#39\;s ever popular &quot\;Veranda Tea Times&quot\; beginning May 23rd. Bring you&#39\;re own lemonade/iced tea/sweet treats and invite friends to &quot\;porch sit&quot\; for lively conversation and sharing. Book appts. 214-202-1862
LOCATION:The Historical Abernathy House 406 Quitman Avenue Pittsburg\, Texas
UID:e.2296.233535
SEQUENCE:3
DTSTAMP:20260422T075047Z
URL:https://business.mtpleasanttx.com/events/details/veranda-tea-times-233535
END:VEVENT

END:VCALENDAR
