BEGIN:VCALENDAR
VERSION:2.0
PRODID:-//ChamberMaster//Event Calendar 2.0//EN
METHOD:PUBLISH
X-PUBLISHED-TTL:P3D
REFRESH-INTERVAL:P3D
CALSCALE:GREGORIAN
BEGIN:VEVENT
DTSTART:20260521T230000Z
DTEND:20260522T003000Z
X-MICROSOFT-CDO-ALLDAYEVENT:FALSE
SUMMARY:Women in Business After Hours - Sponsored by Folktale Venue
DESCRIPTION:Women in Business: After Hours  \n\nPresented & Hosted by Folktale Venue\n\n  May 21st|   6:00 PM\n\nJoin us for an inspiring evening of connection\, collaboration\, and celebration at our Women in Business: After Hours event\, graciously hosted by the beautiful Folktale Venue.\n\nThis special gathering brings together dynamic women from across our business community to unwind\, network\, and share ideas in a relaxed\, elegant atmosphere. Enjoy light bites\, refreshments\, and meaningful conversations as we spotlight the power of women supporting women in the workplace and beyond.\n\n \n\nLet's raise a glass to strong women and even stronger connections! \n\n\n\n\n\n\n\n(Photos provided by Folktale Venue. Photography by Princess Photography.)
X-ALT-DESC;FMTTYPE=text/html:<p data-end="265" data-start="155"><span style="font-size:14px\;"><strong>&#10024\; <span style="font-size:18px\;">Women in Business: After Hours </span>&#10024\;</strong></span></p>\n\n<p data-end="148" data-start="106"><em><strong data-end="146" data-start="106">Presented &amp\; Hosted by Folktale Venue</strong></em></p>\n\n<p data-end="188" data-start="150">&#128197\; May 21st| &#128341\; <strong data-end="186" data-start="175">6:00 PM</strong></p>\n\n<p data-end="376" data-start="190">Join us for an inspiring evening of <strong data-end="272" data-start="226">connection\, collaboration\, and celebration</strong> at our <em data-end="312" data-start="280">Women in Business: After Hours</em> event\, graciously hosted by the beautiful <strong data-end="373" data-start="355">Folktale Venue</strong>.</p>\n\n<p data-end="686" data-start="378">This special gathering brings together dynamic women from across our business community to unwind\, network\, and share ideas in a relaxed\, elegant atmosphere. Enjoy <strong data-end="601" data-start="542">light bites\, refreshments\, and meaningful conversations</strong> as we spotlight the power of women supporting women&nbsp\;in the workplace and beyond.</p>\n\n<p data-end="777" data-start="688">&nbsp\;</p>\n\n<p data-end="1424" data-start="1349">Let&#39\;s raise a glass to <strong data-end="1419" data-start="1372">strong women and even stronger connections!</strong>&nbsp\;<br />\n<br />\n<br />\n<br />\n<span style="font-size:16px\;"><strong><span style="font-size:12px\;">(Photos provided by Folktale Venue. Photography by Princess Photography.)</span></strong></span></p>\n
LOCATION:Folktale Venue 91 CR 3010 N Mount Pleasant\, TX 75455
UID:e.2296.233804
SEQUENCE:3
DTSTAMP:20260420T235936Z
URL:https://business.mtpleasanttx.com/events/details/women-in-business-after-hours-sponsored-by-folktale-venue-233804
END:VEVENT

END:VCALENDAR
